Workbook
Name Charters_and_Schools_Import: #REF!
Name Charters_and_Schools_Import: #REF!
Name Charters_and_Schools_Import1: 'Charter Holders and Schools'!$A$5:$D$32
Name Closure: #REF!
Name Closure: #REF!

Sheet Acerno_Cache_XXXXX

Sheet Cover
A9: ANNUAL REPORT
F10: As of July 1, | H10: 2026
C11: CHARTER SPONSOR:
B15: Current number of charters authorized as of July 1
B16: Number of schools operated by authorized charter holders as of July 1
B17: Number of schools that meet or exceed academic performance measures
B18: Number of charter holders that meet operational performance measures
B19: Number of charter holders that meet financial performance measures
B20: Number of new charters approved in prior fiscal year
B21: Number of schools closed in prior fiscal year
B24: In addition, the following files have been provided to comply with the annual reporting requirements for Charter Sponsors as required by A.R.S. §15-183(HH):
B26: Application, Amendment, Renewal and Revocation Process Templates and Policies
B28: File name(s) | K28: Process updated as of
B30: Charter Contract Template
B32: File name(s) | K32: Template updated as of
B34: Current Performance Frameworks
B36: File name(s) | K36: Frameworks updated as of
B39: The Annual Report for | D39: =IF(ISBLANK(F11),"",F11) | G39: was completed and submitted by:
B41: Charter Sponsor Contact | G41: Telephone Number
B44: Charter Sponsor Contact Title | G44: Email | K44: Date Report Submitted

Sheet Charter Holders and Schools
A1: =IF(ISBLANK(Cover!F11),"",Cover!F11) | C1: Annual Report as of July 1, | D1: =Cover!H10 -> 2026
A2: Charter Sponsor
A3: Current Charters Authorized and Schools Operated by Authorized Charter Holders, and the Academic, Operational, and Financial Performance of the Sponsor's Charter Portfolio as Measured by the Sponsor's Adopted Performance Frameworks
A5: Charter Holder Name | B5: Charter CTDS | C5: School Name | D5: School CTDS | E5: Overall Academic Performance Rating | F5: Overall Operational Performance Rating | G5: Overall Financial Performance Rating
E6: =_xlfn.XLOOKUP(D6,'Academic Performance'!$D:$D,'Academic Performance'!$E:$E) -> 0 | F6: =IF(B6="","N/A",_xlfn.XLOOKUP(B6,'Operational Performance'!$B:$B,'Operational Performance'!$C:$C)) -> N/A | G6: =IF(B6="","N/A",_xlfn.XLOOKUP(B6,'Financial Performance '!$B:$B,'Financial Performance '!$C:$C)) -> N/A
E7: =_xlfn.XLOOKUP(D7,'Academic Performance'!$D:$D,'Academic Performance'!$E:$E) -> 0 | F7: =IF(B7="","N/A",_xlfn.XLOOKUP(B7,'Operational Performance'!$B:$B,'Operational Performance'!$C:$C)) -> N/A | G7: =IF(B7="","N/A",_xlfn.XLOOKUP(B7,'Financial Performance '!$B:$B,'Financial Performance '!$C:$C)) -> N/A
E8: =_xlfn.XLOOKUP(D8,'Academic Performance'!$D:$D,'Academic Performance'!$E:$E) -> 0 | F8: =IF(B8="","N/A",_xlfn.XLOOKUP(B8,'Operational Performance'!$B:$B,'Operational Performance'!$C:$C)) -> N/A | G8: =IF(B8="","N/A",_xlfn.XLOOKUP(B8,'Financial Performance '!$B:$B,'Financial Performance '!$C:$C)) -> N/A
E9: =_xlfn.XLOOKUP(D9,'Academic Performance'!$D:$D,'Academic Performance'!$E:$E) -> 0 | F9: =IF(B9="","N/A",_xlfn.XLOOKUP(B9,'Operational Performance'!$B:$B,'Operational Performance'!$C:$C)) -> N/A | G9: =IF(B9="","N/A",_xlfn.XLOOKUP(B9,'Financial Performance '!$B:$B,'Financial Performance '!$C:$C)) -> N/A
E10: =_xlfn.XLOOKUP(D10,'Academic Performance'!$D:$D,'Academic Performance'!$E:$E) -> 0 | F10: =IF(B10="","N/A",_xlfn.XLOOKUP(B10,'Operational Performance'!$B:$B,'Operational Performance'!$C:$C)) -> N/A | G10: =IF(B10="","N/A",_xlfn.XLOOKUP(B10,'Financial Performance '!$B:$B,'Financial Performance '!$C:$C)) -> N/A
E11: =_xlfn.XLOOKUP(D11,'Academic Performance'!$D:$D,'Academic Performance'!$E:$E) -> 0 | F11: =IF(B11="","N/A",_xlfn.XLOOKUP(B11,'Operational Performance'!$B:$B,'Operational Performance'!$C:$C)) -> N/A | G11: =IF(B11="","N/A",_xlfn.XLOOKUP(B11,'Financial Performance '!$B:$B,'Financial Performance '!$C:$C)) -> N/A
E12: =_xlfn.XLOOKUP(D12,'Academic Performance'!$D:$D,'Academic Performance'!$E:$E) -> 0 | F12: =IF(B12="","N/A",_xlfn.XLOOKUP(B12,'Operational Performance'!$B:$B,'Operational Performance'!$C:$C)) -> N/A | G12: =IF(B12="","N/A",_xlfn.XLOOKUP(B12,'Financial Performance '!$B:$B,'Financial Performance '!$C:$C)) -> N/A
E13: =_xlfn.XLOOKUP(D13,'Academic Performance'!$D:$D,'Academic Performance'!$E:$E) -> 0 | F13: =IF(B13="","N/A",_xlfn.XLOOKUP(B13,'Operational Performance'!$B:$B,'Operational Performance'!$C:$C)) -> N/A | G13: =IF(B13="","N/A",_xlfn.XLOOKUP(B13,'Financial Performance '!$B:$B,'Financial Performance '!$C:$C)) -> N/A
E14: =_xlfn.XLOOKUP(D14,'Academic Performance'!$D:$D,'Academic Performance'!$E:$E) -> 0 | F14: =IF(B14="","N/A",_xlfn.XLOOKUP(B14,'Operational Performance'!$B:$B,'Operational Performance'!$C:$C)) -> N/A | G14: =IF(B14="","N/A",_xlfn.XLOOKUP(B14,'Financial Performance '!$B:$B,'Financial Performance '!$C:$C)) -> N/A
E15: =_xlfn.XLOOKUP(D15,'Academic Performance'!$D:$D,'Academic Performance'!$E:$E) -> 0 | F15: =IF(B15="","N/A",_xlfn.XLOOKUP(B15,'Operational Performance'!$B:$B,'Operational Performance'!$C:$C)) -> N/A | G15: =IF(B15="","N/A",_xlfn.XLOOKUP(B15,'Financial Performance '!$B:$B,'Financial Performance '!$C:$C)) -> N/A
E16: =_xlfn.XLOOKUP(D16,'Academic Performance'!$D:$D,'Academic Performance'!$E:$E) -> 0 | F16: =IF(B16="","N/A",_xlfn.XLOOKUP(B16,'Operational Performance'!$B:$B,'Operational Performance'!$C:$C)) -> N/A | G16: =IF(B16="","N/A",_xlfn.XLOOKUP(B16,'Financial Performance '!$B:$B,'Financial Performance '!$C:$C)) -> N/A
E17: =_xlfn.XLOOKUP(D17,'Academic Performance'!$D:$D,'Academic Performance'!$E:$E) -> 0 | F17: =IF(B17="","N/A",_xlfn.XLOOKUP(B17,'Operational Performance'!$B:$B,'Operational Performance'!$C:$C)) -> N/A | G17: =IF(B17="","N/A",_xlfn.XLOOKUP(B17,'Financial Performance '!$B:$B,'Financial Performance '!$C:$C)) -> N/A
... E525: =_xlfn.XLOOKUP(D525,'Academic Performance'!$D:$D,'Academic Performance'!$E:$E) -> 0 | F525: =IF(B525="","N/A",_xlfn.XLOOKUP(B525,'Operational Performance'!$B:$B,'Operational Performance'!$C:$C)) -> N/A | G525: =IF(B525="","N/A",_xlfn.XLOOKUP(B525,'Financial Performance '!$B:$B,'Financial Performance '!$C:$C)) -> N/A

Sheet Academic Performance
A1: =IF(ISBLANK(Cover!F11),"",Cover!F11) | C1: Annual Report as of July 1, | D1: =Cover!H10 -> 2026
A2: Charter Sponsor
A3: Academic Performance of the Sponsor's Charter Portfolio as Measured by the Sponsor's Adopted Performance Frameworks
A4: Charter Holder Name | B4: Charter CTDS | C4: School Name | D4: School CTDS | E4: Overall Academic Performance Rating

Sheet Operational Performance
A1: =IF(ISBLANK(Cover!F11),"",Cover!F11) | B1: Annual Report as of July 1, | C1: =Cover!H10 -> 2026
A2: Charter Sponsor
A3: Operational Performance of the Sponsor's Charter Portfolio as Measured by the Sponsor's Adopted Performance Frameworks
A4: Charter Holder Name | B4: Charter CTDS | C4: Overall Operational Performance Rating

Sheet Financial Performance 
A1: =IF(ISBLANK(Cover!F11),"",Cover!F11) | B1: Annual Report as of July 1, | C1: =Cover!H10 -> 2026
A2: Charter Sponsor
A3: Financial Performance of the Sponsor's Charter Portfolio as Measured by the Sponsor's Adopted Performance Frameworks
A4: Charter Holder Name | B4: Charter CTDS | C4: Overall Financial Performance Rating

Sheet New Charters
A1: =IF(ISBLANK(Cover!F11),"",Cover!F11) | C1: Annual Report as of July 1, | D1: =Cover!H10 -> 2026
A2: Charter Sponsor
A3: New Charters Approved in Fiscal Year | D3: =Cover!H10 -> 2026
A4: Charter Holder Name | D4: Date Approved

Sheet Closed Schools
A1: =IF(ISBLANK(Cover!F11),"",Cover!F11) | C1: Annual Report as of July 1, | D1: =Cover!H10 -> 2026
A2: Charter Sponsor
A3: Charter Schools Closed in Fiscal Year | E3: =Cover!H10 -> 2026
A4: Charter Holder Name | B4: School Name | C4: School CTDS | D4: Overall Academic Performance Rating | E4: Date Closed | F4: Reason for Closure

Sheet Instructions
A1: ARIZONA CHARTER SPONSORS ANNUAL REPORT
A2: REPORTING INSTRUCTIONS
A4: GENERAL INFORMATION
A5: Arizona Revised Statutes (A.R.S.) §15-183 requires Charter Sponsors to prepare an annual report. The report must be filed annually with the Auditor General's Office on or before October 1. The report and applicable supporting documentation should be uploaded to the Auditor General's ShareFile site linked in the distribution email. A.R.S. §15-183(HH) requires the Auditor General to review the submitted annual reports to ensure they contain all of the required elements and make them available upon request. The law does not require the Auditor General to audit the information included in the annual reports or determine the adequacy of the performance frameworks adopted by the charter sponsors. If a sponsor fails to submit the annual report or does not complete all required elements, the Auditor General must notify the Governor, President of the Senate, the Speaker of the House of Representatives, and the Chairs of the Senate and House Education Committees by December 31.
A8: DETAILED INSTRUCTIONS
A9: Detailed instructions for preparing the annual report pages are as follows:
A11: COVER
A12: STEP 1. | B12: Enter the sponsor's name in the space indicated and select the current year from the drop-down box. The report must be submitted to the Auditor General's Office on or before October 1.
A13: STEP 2. | B13: Enter the following information on the lines provided: ● The current number of charters authorized as of July 1, 2026. ● The number of schools operated by authorized charter holders as of July 1, 2026. ● The number of schools that met or exceeded academic performance measures for the 2024-2025 school year (measure results issued during fiscal year [FY] 2026). ● The number of charter holders that met operational performance measures for FY 2026. ● The number of charter holders that met financial performance measures for FY 2026. ● The number of new charters approved in the prior fiscal year (FY 2026). ● The number of schools closed in the prior fiscal year (FY 2026). Please indicate "None" if the line does not apply. The numbers entered on these lines should agree to the total number of charters/schools entered on the detailed pages. However, if all schools did not meet or exceed their academic performance measures, if all charter holders did not meet their financial or operational performance measures, or some charter holders/schools are new and have not yet been rated, the numbers entered on these two lines will not agree to the detailed pages.
A14: STEP 3. | B14: When submitting the annual report, attach or upload the Sponsor's application, amendment, renewal, and revocation process templates and policies (as applicable), the Charter contract template and the current performance frameworks. PDF documents are preferable. Please include the Sponsor's name and year in the file name (for example, Charter Sponsor 2026 Application Template). Indicate the file name(s) as applicable in the space provided to easily identify each file. Also, include each document's updated or revision date to ensure the most current file is submitted.
A15: STEP 4. | B15: Enter the contact information for the sponsor representative responsible for completing the annual report, including title, phone number and e-mail address. Also, enter the date the report is submitted to the Auditor General's Office.
A17: CHARTER HOLDERS AND SCHOOLS
A18: Step 1. | B18: Enter the charter holder name and CTDS in columns A and B, and each school name and school CTDS in columns C and D, for each charter holder and school authorized as of July 1. All charter holder and school CTDS should be entered as 9 digits. For charter holders that operate more than 1 school site, enter the charter holder information only once in columns A and B, for the first school site listed. Please enter "None" if there are no active charter holders or schools as of July 1. Please insert additional rows as necessary to report complete information and preserve the report formatting.
A19: Step 2. | B19: The information from the Academic, Operational and Financial Performance tabs will populate to this page, after each applicable tab is completed. After completing the Academic Performance, Operational Performance, and Financial Performance tabs, as described below, return to this tab to review the populated information for accuracy.
A20: Step 3. | B20: For charter holders that operate more than 1 school, the operational and financial performance columns on this tab will populate the charter holder's measure results for the first school site listed only. Each additional school site should populate an N/A in these columns. You may optionally merge the cells in this column for all school sites operated by each charter holder, after the tab is populated to remove the N/As and leave the charter holder measure results displayed only once. To do so, you must select the "Unprotect Sheet" button in the "Review" ribbon. After merging is complete, select the "Protect Sheet" button to avoid accidentally deleting formulas.
A22: ACADEMIC PERFORMANCE
A23: STEP 1. | B23: If academic performance ratings were considered at the charter holder level, enter each charter holder name and CTDS in columns A and B. If academic performance ratings were considered at the charter school level, enter the charter school names and CTDS for each school site in columns C and D. Please insert additional rows as necessary to report complete information and preserve the report formatting.
A24: STEP 2. | B24: Enter the most recent overall academic performance rating of the charter holder or charter school, as applicable, as measured by the Sponsor's adopted academic performance framework. The field has been formatted as a text field to allow numeric ratings, letter grades, or descriptions.
A26: OPERATIONAL PERFORMANCE
A27: STEP 1. | B27: Enter each charter holder name and CTDS in columns A and B. If operational performance ratings were considered at the charter school level, contact the Auditor General's Office at asd@azauditor.gov for an amended form that provides space to report operational performance measure results at the school level. Please insert additional rows as necessary to report complete information and preserve the report formatting.
A28: STEP 2. | B28: Enter the most recent overall operational performance rating of the charter holder, as measured by the Sponsor's adopted operational performance framework. The field has been formatted as a text field to allow numeric ratings, letter grades, or descriptions.
A30: FINANCIAL PERFORMANCE
A31: STEP 1. | B31: Enter each charter holder name and CTDS. If financial performance ratings were considered at the charter school level, contact the Auditor General's Office at asd@azauditor.gov for an amended form that provides space to report financial performance measure results at the school level. Please insert additional rows as necessary to report complete information and preserve the report formatting.
A32: STEP 2. | B32: Enter the most recent overall financial performance rating of the charter holder, as measured by the Sponsor's adopted financial performance framework. The field has been formatted as a text field to allow numeric ratings, letter grades, or descriptions.
A34: NEW CHARTERS
B35: Enter the name of new charter holders and date approved in the prior fiscal year. For example, if the Annual Report is completed as of July 1, 2026, all new charters approved between July 1, 2025, and June 30, 2026, should be reported here. Please indicate "None" on the worksheet if no new charters were approved in the prior fiscal year. Please insert additional rows as necessary to report complete information and preserve the report formatting.
A37: CLOSED SCHOOLS
B38: Enter the charter holder name, school name, school CTDS, most recent overall academic performance rating as measured by the Sponsor's adopted performance framework, date closed, and reason for closure for all schools closed in the prior fiscal year. For example, if the Annual Report is completed as of July 1, 2026, all schools closed between July 1, 2025, and June 30, 2026, should be reported here. Please indicate "None" if no schools were closed in the prior fiscal year. Please insert additional rows as necessary to report complete information and preserve the report formatting.
A40: If you have questions or need assistance, please contact the Auditor General's Office, Accountability Services Division at (602) 977-2796 or asd@azauditor.gov.
